BEGIN:VCALENDAR
VERSION:2.0
PRODID:-//Akkordeon-Orchester Radolfzell e.V. - ECPv6.15.20//NONSGML v1.0//EN
CALSCALE:GREGORIAN
METHOD:PUBLISH
X-ORIGINAL-URL:https://akkordeonorchesterradolfzell.de
X-WR-CALDESC:Veranstaltungen für Akkordeon-Orchester Radolfzell e.V.
REFRESH-INTERVAL;VALUE=DURATION:PT1H
X-Robots-Tag:noindex
X-PUBLISHED-TTL:PT1H
BEGIN:VTIMEZONE
TZID:Europe/Berlin
BEGIN:DAYLIGHT
TZOFFSETFROM:+0100
TZOFFSETTO:+0200
TZNAME:CEST
DTSTART:20230326T010000
END:DAYLIGHT
BEGIN:STANDARD
TZOFFSETFROM:+0200
TZOFFSETTO:+0100
TZNAME:CET
DTSTART:20231029T010000
END:STANDARD
BEGIN:DAYLIGHT
TZOFFSETFROM:+0100
TZOFFSETTO:+0200
TZNAME:CEST
DTSTART:20240331T010000
END:DAYLIGHT
BEGIN:STANDARD
TZOFFSETFROM:+0200
TZOFFSETTO:+0100
TZNAME:CET
DTSTART:20241027T010000
END:STANDARD
BEGIN:DAYLIGHT
TZOFFSETFROM:+0100
TZOFFSETTO:+0200
TZNAME:CEST
DTSTART:20250330T010000
END:DAYLIGHT
BEGIN:STANDARD
TZOFFSETFROM:+0200
TZOFFSETTO:+0100
TZNAME:CET
DTSTART:20251026T010000
END:STANDARD
END:VTIMEZONE
BEGIN:VEVENT
DTSTART;TZID=Europe/Berlin:20240426T193000
DTEND;TZID=Europe/Berlin:20240426T203000
DTSTAMP:20260421T093904
CREATED:20240405T090451Z
LAST-MODIFIED:20240405T093201Z
UID:1628-1714159800-1714163400@akkordeonorchesterradolfzell.de
SUMMARY:Einheimisches in der Werner-Messmer-Klinik Radolfzell
DESCRIPTION:Die Trachtengruppe Alt-Radolfzell und das Akkordeon-Orchester Radolfzell präsentieren „handgemachte Musik\, Tänze der Trachtengruppe\, sowie Texte von Pfarrer Hermann Sernatinger. Vorgetragen werden diese in Radolfzeller Mundart von Romy Bromma und den Trachtenkindern.
URL:https://akkordeonorchesterradolfzell.de/termine/auftritt-in-der-werner-messmer-klinik-radolfzell/
LOCATION:Merner-Messmer-Klinik Radolfzell\, Strandbadstr. 80\, Radolfzell\, BW\, 78315\, Deutschland
CATEGORIES:Konzerte
ATTACH;FMTTYPE=image/jpeg:https://akkordeonorchesterradolfzell.de/wp-content/uploads/2024/04/img_5065-1.jpg
ORGANIZER;CN="Werner-Messmer-Klinik Radolfzell":MAILTO:info@mettnau.com
END:VEVENT
END:VCALENDAR